BEGIN:VCALENDAR
VERSION:2.0
PRODID:-//KG MET HTZ - ECPv6.9.0//NONSGML v1.0//EN
CALSCALE:GREGORIAN
METHOD:PUBLISH
X-ORIGINAL-URL:https://kgmethaetz.de
X-WR-CALDESC:Veranstaltungen für KG MET HTZ
REFRESH-INTERVAL;VALUE=DURATION:PT1H
X-Robots-Tag:noindex
X-PUBLISHED-TTL:PT1H
BEGIN:VTIMEZONE
TZID:Europe/Berlin
BEGIN:DAYLIGHT
TZOFFSETFROM:+0100
TZOFFSETTO:+0200
TZNAME:CEST
DTSTART:20240331T010000
END:DAYLIGHT
BEGIN:STANDARD
TZOFFSETFROM:+0200
TZOFFSETTO:+0100
TZNAME:CET
DTSTART:20241027T010000
END:STANDARD
BEGIN:DAYLIGHT
TZOFFSETFROM:+0100
TZOFFSETTO:+0200
TZNAME:CEST
DTSTART:20250330T010000
END:DAYLIGHT
BEGIN:STANDARD
TZOFFSETFROM:+0200
TZOFFSETTO:+0100
TZNAME:CET
DTSTART:20251026T010000
END:STANDARD
BEGIN:DAYLIGHT
TZOFFSETFROM:+0100
TZOFFSETTO:+0200
TZNAME:CEST
DTSTART:20260329T010000
END:DAYLIGHT
BEGIN:STANDARD
TZOFFSETFROM:+0200
TZOFFSETTO:+0100
TZNAME:CET
DTSTART:20261025T010000
END:STANDARD
END:VTIMEZONE
BEGIN:VEVENT
DTSTART;TZID=Europe/Berlin:20260310T190000
DTEND;TZID=Europe/Berlin:20260310T190000
DTSTAMP:20260419T150233
CREATED:20260119T194655Z
LAST-MODIFIED:20260119T194655Z
UID:742-1773169200-1773169200@kgmethaetz.de
SUMMARY:Probetraining - Jeck met Hätz
DESCRIPTION:
URL:https://kgmethaetz.de/event/probetraining-jeck-met-haetz-4/
LOCATION:Mehrzweckhalle Neu-Bottenbroich\, Habbelrather Str.\, Kerpen\, 50169
ATTACH;FMTTYPE=image/jpeg:https://kgmethaetz.de/wp-content/uploads/2026/01/Probetraining26.jpeg
END:VEVENT
BEGIN:VEVENT
DTSTART;TZID=Europe/Berlin:20260310T173000
DTEND;TZID=Europe/Berlin:20260310T173000
DTSTAMP:20260419T150233
CREATED:20260210T164724Z
LAST-MODIFIED:20260210T164724Z
UID:762-1773163800-1773163800@kgmethaetz.de
SUMMARY:Probetraining - Hätzblättche
DESCRIPTION:
URL:https://kgmethaetz.de/event/probetraining-haetzblaettche-3/
LOCATION:Mehrzweckhalle Neu-Bottenbroich\, Habbelrather Str.\, Kerpen\, 50169
ATTACH;FMTTYPE=image/jpeg:https://kgmethaetz.de/wp-content/uploads/2026/02/Probetraining26HB.jpeg
END:VEVENT
BEGIN:VEVENT
DTSTART;TZID=Europe/Berlin:20260224T190000
DTEND;TZID=Europe/Berlin:20260224T190000
DTSTAMP:20260419T150233
CREATED:20260119T194434Z
LAST-MODIFIED:20260119T194434Z
UID:739-1771959600-1771959600@kgmethaetz.de
SUMMARY:Probetraining - Jeck met Hätz
DESCRIPTION:
URL:https://kgmethaetz.de/event/probetraining-jeck-met-haetz-3/
LOCATION:Mehrzweckhalle Neubottenbroich\, Habbelrather Str. 12-20\, Kerpen\, 50169\, Germany
ATTACH;FMTTYPE=image/jpeg:https://kgmethaetz.de/wp-content/uploads/2026/01/Probetraining26.jpeg
END:VEVENT
BEGIN:VEVENT
DTSTART;TZID=Europe/Berlin:20260201T143000
DTEND;TZID=Europe/Berlin:20260201T143000
DTSTAMP:20260419T150233
CREATED:20250512T184613Z
LAST-MODIFIED:20251230T131317Z
UID:638-1769956200-1769956200@kgmethaetz.de
SUMMARY:Karnevalistischer Seniorencafe
DESCRIPTION:Unser Seniorencafé geht in Form einer Karnevalssitzung in die 3. Runde 🎉 Freut Euch auf ein buntes Bühnenprogramm und einen schönen Nachmittag 🎈
URL:https://kgmethaetz.de/event/karnnevalistisches-seniorencafe/
LOCATION:Soziokulturelles Zentrum\, Mittelstraße 23\, Kerpen\, 50169\, Germany
ATTACH;FMTTYPE=image/jpeg:https://kgmethaetz.de/wp-content/uploads/2025/05/Flyer-Seniorencafe_01.02.2026.jpg
END:VEVENT
BEGIN:VEVENT
DTSTART;TZID=Europe/Berlin:20251111T103000
DTEND;TZID=Europe/Berlin:20251111T103000
DTSTAMP:20260419T150233
CREATED:20250206T153139Z
LAST-MODIFIED:20251023T092742Z
UID:529-1762857000-1762857000@kgmethaetz.de
SUMMARY:Sessionseröffnung met Hätz 2025/2026
DESCRIPTION:Bald ist es wieder soweit! Unsere Sessionseröffnung geht in die 2. Runde 🥳 Seid dabei und feiert mit uns in die 5. Jahreszeit 🎊🎉 \nNEU: Von 11 – 13 Uhr gibt’s eine Happy Hour 🍻 1 KRANZ FÜR 11 BONS (11 €) \nFreut Euch auf den Baron 🌭🍟\, das Horremer Kinderdreigestirn 🎭\, unsere Hätzblättche 💕 sowie weitere Tanzgruppen und Musik mit TJ Thomas Junggeburth\, Justin Jansen und DJLokke \nHier geht’s zur Facebook-Veranstaltung
URL:https://kgmethaetz.de/event/sessionseroeffnung-met-haetz-2025-2026/
LOCATION:Horremer Marktplatz\, Friedrich-Ebert-Platz\, Kerpen-Horrem\, 50169
ATTACH;FMTTYPE=image/jpeg:https://kgmethaetz.de/wp-content/uploads/2025/02/SE25.jpeg
END:VEVENT
BEGIN:VEVENT
DTSTART;VALUE=DATE:20251028
DTEND;VALUE=DATE:20251029
DTSTAMP:20260419T150233
CREATED:20250512T184420Z
LAST-MODIFIED:20250512T184420Z
UID:634-1761609600-1761695999@kgmethaetz.de
SUMMARY:Generalprobe der Tanzgruppen
DESCRIPTION:
URL:https://kgmethaetz.de/event/generalprobe-der-tanzgruppen/
LOCATION:Mehrzweckhalle Neubottenbroich\, Habbelrather Str. 12-20\, Kerpen\, 50169\, Germany
END:VEVENT
BEGIN:VEVENT
DTSTART;TZID=Europe/Berlin:20250409T190000
DTEND;TZID=Europe/Berlin:20250409T190000
DTSTAMP:20260419T150233
CREATED:20250116T184904Z
LAST-MODIFIED:20250319T073301Z
UID:496-1744225200-1744225200@kgmethaetz.de
SUMMARY:Mitgliederversammlung
DESCRIPTION:
URL:https://kgmethaetz.de/event/mitgliederversammlung/
LOCATION:Soziokulturelles Zentrum\, Mittelstraße 23\, Kerpen\, 50169\, Germany
END:VEVENT
BEGIN:VEVENT
DTSTART;TZID=Europe/Berlin:20250406T143000
DTEND;TZID=Europe/Berlin:20250406T143000
DTSTAMP:20260419T150233
CREATED:20250116T180833Z
LAST-MODIFIED:20250319T073741Z
UID:491-1743949800-1743949800@kgmethaetz.de
SUMMARY:Senioren Café
DESCRIPTION:
URL:https://kgmethaetz.de/event/senioren-cafe-2/
LOCATION:Soziokulturelles Zentrum Horrem\, Mittelstraße 23\, Kerpen\, 50169\, Germany
ATTACH;FMTTYPE=image/jpeg:https://kgmethaetz.de/wp-content/uploads/2025/03/Seniorencafe0425H.jpeg
END:VEVENT
BEGIN:VEVENT
DTSTART;TZID=Europe/Berlin:20250325T180000
DTEND;TZID=Europe/Berlin:20250325T180000
DTSTAMP:20260419T150233
CREATED:20250319T071936Z
LAST-MODIFIED:20250319T071936Z
UID:568-1742925600-1742925600@kgmethaetz.de
SUMMARY:Probetraining - Hätzblättche
DESCRIPTION:
URL:https://kgmethaetz.de/event/probetraining-haetzblaettche-2/
LOCATION:Mehrzweckhalle Neu-Bottenbroich\, Habbelrather Str.\, Kerpen\, 50169
ATTACH;FMTTYPE=image/jpeg:https://kgmethaetz.de/wp-content/uploads/2025/03/ProbetrainingHaetzblaettche.jpeg
END:VEVENT
BEGIN:VEVENT
DTSTART;TZID=Europe/Berlin:20250319T183000
DTEND;TZID=Europe/Berlin:20250319T183000
DTSTAMP:20260419T150233
CREATED:20250319T072636Z
LAST-MODIFIED:20250319T073009Z
UID:573-1742409000-1742409000@kgmethaetz.de
SUMMARY:Probetraining - Danz met Hätz
DESCRIPTION:
URL:https://kgmethaetz.de/event/probetraining-danz-met-haetz-2/
LOCATION:Adolf-Kolping-Berufskolleg\, Ina-Seidel-Straße 11\, Kerpen\, 50169\, Germany
ATTACH;FMTTYPE=image/jpeg:https://kgmethaetz.de/wp-content/uploads/2025/03/ProbetrainingDMH.jpeg
END:VEVENT
BEGIN:VEVENT
DTSTART;TZID=Europe/Berlin:20250318T190000
DTEND;TZID=Europe/Berlin:20250318T190000
DTSTAMP:20260419T150233
CREATED:20250206T154105Z
LAST-MODIFIED:20250206T154128Z
UID:531-1742324400-1742324400@kgmethaetz.de
SUMMARY:Probetraining - Jeck met Hätz
DESCRIPTION:
URL:https://kgmethaetz.de/event/probetraining-jeck-met-haetz/
LOCATION:Mehrzweckhalle Neu-Bottenbroich\, Habbelrather Str.\, Kerpen\, 50169
ATTACH;FMTTYPE=image/jpeg:https://kgmethaetz.de/wp-content/uploads/2025/02/FlyerJmH-1.jpg
END:VEVENT
BEGIN:VEVENT
DTSTART;TZID=Europe/Berlin:20250318T180000
DTEND;TZID=Europe/Berlin:20250318T180000
DTSTAMP:20260419T150233
CREATED:20250319T071832Z
LAST-MODIFIED:20250319T071832Z
UID:564-1742320800-1742320800@kgmethaetz.de
SUMMARY:Probetraining - Hätzblättche
DESCRIPTION:
URL:https://kgmethaetz.de/event/probetraining-haetzblaettche/
LOCATION:Mehrzweckhalle Neu-Bottenbroich\, Habbelrather Str.\, Kerpen\, 50169
ATTACH;FMTTYPE=image/jpeg:https://kgmethaetz.de/wp-content/uploads/2025/03/ProbetrainingHaetzblaettche.jpeg
END:VEVENT
BEGIN:VEVENT
DTSTART;TZID=Europe/Berlin:20250312T183000
DTEND;TZID=Europe/Berlin:20250312T183000
DTSTAMP:20260419T150233
CREATED:20250319T072543Z
LAST-MODIFIED:20250319T072852Z
UID:570-1741804200-1741804200@kgmethaetz.de
SUMMARY:Probetraining - Danz met Hätz
DESCRIPTION:
URL:https://kgmethaetz.de/event/probetraining-danz-met-haetz/
LOCATION:Adolf-Kolping-Berufskolleg\, Ina-Seidel-Straße 11\, Kerpen\, 50169\, Germany
ATTACH;FMTTYPE=image/jpeg:https://kgmethaetz.de/wp-content/uploads/2025/02/WhatsApp-Image-2025-02-11-at-18.50.57-1.jpeg
END:VEVENT
BEGIN:VEVENT
DTSTART;TZID=Europe/Berlin:20250311T190000
DTEND;TZID=Europe/Berlin:20250311T190000
DTSTAMP:20260419T150233
CREATED:20250219T105627Z
LAST-MODIFIED:20250219T105627Z
UID:543-1741719600-1741719600@kgmethaetz.de
SUMMARY:Probetraining - Jeck met Hätz
DESCRIPTION:
URL:https://kgmethaetz.de/event/probetraining-jeck-met-haetz-2/
LOCATION:Mehrzweckhalle Neu-Bottenbroich\, Habbelrather Str.\, Kerpen\, 50169
ATTACH;FMTTYPE=image/jpeg:https://kgmethaetz.de/wp-content/uploads/2025/02/FlyerJmH-1.jpg
END:VEVENT
BEGIN:VEVENT
DTSTART;TZID=Europe/Berlin:20241111T111100
DTEND;TZID=Europe/Berlin:20241111T111100
DTSTAMP:20260419T150233
CREATED:20241009T114815Z
LAST-MODIFIED:20241009T171555Z
UID:290-1731323460-1731323460@kgmethaetz.de
SUMMARY:Sessionseröffnung met Hätz
DESCRIPTION:
URL:https://kgmethaetz.de/event/sessionseroeffnung-met-haetz/
LOCATION:Horremer Marktplatz\, Friedrich-Ebert-Platz\, Kerpen-Horrem\, 50169
ATTACH;FMTTYPE=image/jpeg:https://kgmethaetz.de/wp-content/uploads/2024/10/Sessionseroeffnung2024.jpeg
END:VEVENT
BEGIN:VEVENT
DTSTART;TZID=Europe/Berlin:20241013T143000
DTEND;TZID=Europe/Berlin:20241013T143000
DTSTAMP:20260419T150233
CREATED:20241009T174921Z
LAST-MODIFIED:20241009T175137Z
UID:331-1728829800-1728829800@kgmethaetz.de
SUMMARY:Senioren Café
DESCRIPTION:
URL:https://kgmethaetz.de/event/senioren-cafe/
LOCATION:Schützenheim St. Hubertus\, Kettelerstr. 22\, Kerpen-Horrem\, 50169
ATTACH;FMTTYPE=image/jpeg:https://kgmethaetz.de/wp-content/uploads/2024/10/WhatsApp-Image-2024-09-23-at-14.05.14.jpeg
END:VEVENT
BEGIN:VEVENT
DTSTART;TZID=Europe/Berlin:20240615T160000
DTEND;TZID=Europe/Berlin:20240615T160000
DTSTAMP:20260419T150233
CREATED:20241009T175607Z
LAST-MODIFIED:20241009T175723Z
UID:339-1718467200-1718467200@kgmethaetz.de
SUMMARY:BBQ met Hätz
DESCRIPTION:
URL:https://kgmethaetz.de/event/bbq-met-haetz/
LOCATION:Festplatz hinter dem Pfarrzentrum\, Hauptstr. 215\, Kerpen-Horrem\, 50169
ATTACH;FMTTYPE=image/jpeg:https://kgmethaetz.de/wp-content/uploads/2024/10/BBQ-met-Haetz.jpg
END:VEVENT
END:VCALENDAR